BEGIN:VCALENDAR
VERSION:2.0
PRODID:-//Second Congregational Church of Palmer - ECPv6.15.20//NONSGML v1.0//EN
CALSCALE:GREGORIAN
METHOD:PUBLISH
X-ORIGINAL-URL:https://secondchurchpalmer.org
X-WR-CALDESC:Events for Second Congregational Church of Palmer
REFRESH-INTERVAL;VALUE=DURATION:PT1H
X-Robots-Tag:noindex
X-PUBLISHED-TTL:PT1H
BEGIN:VTIMEZONE
TZID:America/New_York
BEGIN:DAYLIGHT
TZOFFSETFROM:-0500
TZOFFSETTO:-0400
TZNAME:EDT
DTSTART:20250309T070000
END:DAYLIGHT
BEGIN:STANDARD
TZOFFSETFROM:-0400
TZOFFSETTO:-0500
TZNAME:EST
DTSTART:20251102T060000
END:STANDARD
BEGIN:DAYLIGHT
TZOFFSETFROM:-0500
TZOFFSETTO:-0400
TZNAME:EDT
DTSTART:20260308T070000
END:DAYLIGHT
BEGIN:STANDARD
TZOFFSETFROM:-0400
TZOFFSETTO:-0500
TZNAME:EST
DTSTART:20261101T060000
END:STANDARD
BEGIN:DAYLIGHT
TZOFFSETFROM:-0500
TZOFFSETTO:-0400
TZNAME:EDT
DTSTART:20270314T070000
END:DAYLIGHT
BEGIN:STANDARD
TZOFFSETFROM:-0400
TZOFFSETTO:-0500
TZNAME:EST
DTSTART:20271107T060000
END:STANDARD
END:VTIMEZONE
BEGIN:VEVENT
DTSTART;TZID=America/New_York:20260822T090000
DTEND;TZID=America/New_York:20260822T140000
DTSTAMP:20260419T232304
CREATED:20260306T223000Z
LAST-MODIFIED:20260306T223000Z
UID:10003428-1787389200-1787407200@secondchurchpalmer.org
SUMMARY:Second Congo's Farmers Market
DESCRIPTION:
URL:https://secondchurchpalmer.org/event/second-congos-farmers-market/2026-08-22/
ORGANIZER;CN="Second Congregational Church":MAILTO:secondcongo1847@gmail.com
END:VEVENT
BEGIN:VEVENT
DTSTART;TZID=America/New_York:20260829T090000
DTEND;TZID=America/New_York:20260829T140000
DTSTAMP:20260419T232304
CREATED:20260306T223000Z
LAST-MODIFIED:20260306T223000Z
UID:10003436-1787994000-1788012000@secondchurchpalmer.org
SUMMARY:Second Congo's Farmers Market
DESCRIPTION:
URL:https://secondchurchpalmer.org/event/second-congos-farmers-market/2026-08-29/
ORGANIZER;CN="Second Congregational Church":MAILTO:secondcongo1847@gmail.com
END:VEVENT
BEGIN:VEVENT
DTSTART;TZID=America/New_York:20260905T090000
DTEND;TZID=America/New_York:20260905T140000
DTSTAMP:20260419T232304
CREATED:20260306T223000Z
LAST-MODIFIED:20260306T223000Z
UID:10003429-1788598800-1788616800@secondchurchpalmer.org
SUMMARY:Second Congo's Farmers Market
DESCRIPTION:
URL:https://secondchurchpalmer.org/event/second-congos-farmers-market/2026-09-05/
ORGANIZER;CN="Second Congregational Church":MAILTO:secondcongo1847@gmail.com
END:VEVENT
BEGIN:VEVENT
DTSTART;TZID=America/New_York:20260912T090000
DTEND;TZID=America/New_York:20260912T140000
DTSTAMP:20260419T232304
CREATED:20260306T223000Z
LAST-MODIFIED:20260306T223000Z
UID:10003437-1789203600-1789221600@secondchurchpalmer.org
SUMMARY:Second Congo's Farmers Market
DESCRIPTION:
URL:https://secondchurchpalmer.org/event/second-congos-farmers-market/2026-09-12/
ORGANIZER;CN="Second Congregational Church":MAILTO:secondcongo1847@gmail.com
END:VEVENT
BEGIN:VEVENT
DTSTART;TZID=America/New_York:20260919T090000
DTEND;TZID=America/New_York:20260919T140000
DTSTAMP:20260419T232304
CREATED:20260306T223000Z
LAST-MODIFIED:20260306T223000Z
UID:10003430-1789808400-1789826400@secondchurchpalmer.org
SUMMARY:Second Congo's Farmers Market
DESCRIPTION:
URL:https://secondchurchpalmer.org/event/second-congos-farmers-market/2026-09-19/
ORGANIZER;CN="Second Congregational Church":MAILTO:secondcongo1847@gmail.com
END:VEVENT
BEGIN:VEVENT
DTSTART;TZID=America/New_York:20260926T090000
DTEND;TZID=America/New_York:20260926T140000
DTSTAMP:20260419T232304
CREATED:20260306T223000Z
LAST-MODIFIED:20260306T223000Z
UID:10003438-1790413200-1790431200@secondchurchpalmer.org
SUMMARY:Second Congo's Farmers Market
DESCRIPTION:
URL:https://secondchurchpalmer.org/event/second-congos-farmers-market/2026-09-26/
ORGANIZER;CN="Second Congregational Church":MAILTO:secondcongo1847@gmail.com
END:VEVENT
END:VCALENDAR